BEGIN:VCALENDAR
VERSION:2.0
PRODID:-//Vancouver Island Caribbean Hub - ECPv6.15.20//NONSGML v1.0//EN
CALSCALE:GREGORIAN
METHOD:PUBLISH
X-ORIGINAL-URL:https://vicaribbeanhub.com
X-WR-CALDESC:Events for Vancouver Island Caribbean Hub
REFRESH-INTERVAL;VALUE=DURATION:PT1H
X-Robots-Tag:noindex
X-PUBLISHED-TTL:PT1H
BEGIN:VTIMEZONE
TZID:America/Vancouver
BEGIN:DAYLIGHT
TZOFFSETFROM:-0800
TZOFFSETTO:-0700
TZNAME:PDT
DTSTART:20240310T100000
END:DAYLIGHT
BEGIN:STANDARD
TZOFFSETFROM:-0700
TZOFFSETTO:-0800
TZNAME:PST
DTSTART:20241103T090000
END:STANDARD
BEGIN:DAYLIGHT
TZOFFSETFROM:-0800
TZOFFSETTO:-0700
TZNAME:PDT
DTSTART:20250309T100000
END:DAYLIGHT
BEGIN:STANDARD
TZOFFSETFROM:-0700
TZOFFSETTO:-0800
TZNAME:PST
DTSTART:20251102T090000
END:STANDARD
BEGIN:DAYLIGHT
TZOFFSETFROM:-0800
TZOFFSETTO:-0700
TZNAME:PDT
DTSTART:20260308T100000
END:DAYLIGHT
BEGIN:STANDARD
TZOFFSETFROM:-0700
TZOFFSETTO:-0800
TZNAME:PST
DTSTART:20261101T090000
END:STANDARD
END:VTIMEZONE
BEGIN:VEVENT
DTSTART;TZID=America/Vancouver:20250607T100000
DTEND;TZID=America/Vancouver:20250607T120000
DTSTAMP:20260419T095143
CREATED:20250404T163606Z
LAST-MODIFIED:20250609T154229Z
UID:26644-1749290400-1749297600@vicaribbeanhub.com
SUMMARY:Pre-Carnival Jump Up | Oak Bay Tea Party Parade
DESCRIPTION:Highlights\n			\n				Recap Photos\n			\n			\n				\n				\n				\n				\n			\n				\n				\n				\n				\n				\n				\n				\n				\n				\n				\n				Pre-Carnival Jump Up\n			\n				\n				\n				\n				\n				\n			\n				\n				\n				\n				\n				Get ready to bring the vibes! Join i-Land Fest as we hit the streets for the Pre-Carnival Jump Up at the Oak Bay Tea Party Parade on June 7\, 2025! This is your chance to rep Caribbean culture\, dance to infectious rhythms\, wave your flag\, and hype up the city ahead of I-Land Fest 2025! \n✅ How to Join: Participation is FREE\, but spots are limited! Sign up now to secure your place in the parade: \n			\n				Sign Up\n			\n				\n				\n				\n				\n				👕 T-Shirt Purchase: Wear an i-Land Fest t-shirt or a Carnival costume to rep the culture! T-shirts are $20 and must be purchased before the cutoff date on May 2\, 2024. Get yours below. \n📍 Meet-Up & Details: T-shirts will be distributed at the parade meet-up spot. More details on time and location will be sent closer to the event. \nLet’s hit the road together and bring the Caribbean energy to Victoria! Sign up now and get ready to jump up! \n			\n				\n				\n				\n				\n				\n			\n			\n				\n				\n				\n				\n			\n				\n				\n				\n				\n				\n				\n				\n				\n				\n				\n				\n			\n			\n				\n				\n				\n				\n			\n				\n				\n				\n				\n				\n				\n				\n				\n				\n				\n				Sponsors
URL:https://vicaribbeanhub.com/event/pre-carnival-jump-up/
LOCATION:Oak Bay Tea Party Parade\, 2451 Windsor Rd\, Oak Bay\, British Columbia\, Canada
CATEGORIES:Family-Friendly,Fete / Party,Fitness,Social / Mixer
ATTACH;FMTTYPE=image/png:https://vicaribbeanhub.com/wp-content/uploads/2025/04/PreCarnival-Jump-Banner.png
END:VEVENT
END:VCALENDAR