BEGIN:VCALENDAR
VERSION:2.0
PRODID:-//Vancouver Island Caribbean Hub - ECPv6.15.20//NONSGML v1.0//EN
CALSCALE:GREGORIAN
METHOD:PUBLISH
X-ORIGINAL-URL:https://vicaribbeanhub.com
X-WR-CALDESC:Events for Vancouver Island Caribbean Hub
REFRESH-INTERVAL;VALUE=DURATION:PT1H
X-Robots-Tag:noindex
X-PUBLISHED-TTL:PT1H
BEGIN:VTIMEZONE
TZID:America/Vancouver
BEGIN:DAYLIGHT
TZOFFSETFROM:-0800
TZOFFSETTO:-0700
TZNAME:PDT
DTSTART:20240310T100000
END:DAYLIGHT
BEGIN:STANDARD
TZOFFSETFROM:-0700
TZOFFSETTO:-0800
TZNAME:PST
DTSTART:20241103T090000
END:STANDARD
BEGIN:DAYLIGHT
TZOFFSETFROM:-0800
TZOFFSETTO:-0700
TZNAME:PDT
DTSTART:20250309T100000
END:DAYLIGHT
BEGIN:STANDARD
TZOFFSETFROM:-0700
TZOFFSETTO:-0800
TZNAME:PST
DTSTART:20251102T090000
END:STANDARD
BEGIN:DAYLIGHT
TZOFFSETFROM:-0800
TZOFFSETTO:-0700
TZNAME:PDT
DTSTART:20260308T100000
END:DAYLIGHT
BEGIN:STANDARD
TZOFFSETFROM:-0700
TZOFFSETTO:-0800
TZNAME:PST
DTSTART:20261101T090000
END:STANDARD
END:VTIMEZONE
BEGIN:VEVENT
DTSTART;TZID=America/Vancouver:20250301T170000
DTEND;TZID=America/Vancouver:20250302T000000
DTSTAMP:20260419T161332
CREATED:20250106T220826Z
LAST-MODIFIED:20250406T160306Z
UID:26147-1740848400-1740873600@vicaribbeanhub.com
SUMMARY:Carnival Culture Connection 2025
DESCRIPTION:Highlights\n			\n				\n				\n				\n				\n				\n				\n			\n				Recap Photos\n			\n			\n				\n				\n				\n				\n			\n				\n				\n				\n				\n				\n				\n				\n				\n				\n				\n				Celebrating Carnival Saturday\n			\n				\n				\n				\n				\n				 📅 Carnival Saturday\, March 1st\, 2025🕓 Time: 5pm – midnight📍 Location: Rifflandia Showroom (full address provided after registration) \nGet ready for the 3rd annual Carnival Culture Connection (CCC)—a spectacular celebration of Trinidad and Tobago’s Carnival Saturday! 🌟 \nThis FREE family-friendly event offers an unforgettable experience for the Caribbean community and anyone curious about this iconic celebration. With the theme “Old Mas”—honouring Traditional Mas—we’ll bring the spirit of Carnival to life right here at home in Victoria\, BC! \n🎶 Non-stop music by Caribbean DJs—feel the rhythm of Soca\, Calypso\, Raspo and Chutney all night long \n👧🏿 Kids Zone—fun for the little ones \n🍹 Cash or card bar—enjoy classic Caribbean beverages \n🍽 Food Pre-Orders Available – Caribbean meals are available by pre-order only. Enjoy delicious Caribbean cuisine from Run A Boat and Trini 2 D’ Bone! \n👕 Limited Edition CCC T-Shirts – Pre-order now and pick up at the event! \n🎟️ Grab your FREE tickets now! While entry is free\, registration is required—don’t miss out! ⬇️ \n			\n				\n				\n				\n				\n				\n    \n\n			\n			\n				\n				\n				\n				\n			\n				\n				\n				\n				\n				\n				\n				\n				\n				\n				\n				\n			\n				\n				\n				\n				\n				\n			\n			\n				\n				\n				\n				\n				\n				\n				\n				\n				\n				\n			\n				\n				\n				\n				\n				\n			\n			\n				\n				\n				\n				\n			\n				\n				\n				\n				\n				\n				\n				\n				\n				\n				\n				Schedule\n			\n				\n				\n				\n				\n				🪩 5pm – 7pm Sailor Mas & Jump Up (Kids Zone) \n🪩 5pm – 9pm Dinner Serving (Pre-Order) \n🪩 5pm – 9pm Resident DJ – DJ Abelee 🇯🇲 \n🪩 7pm – 9pm Trivia\, Limbo & Back in Time \n🪩 9pm – 12am Fete w/ DJ Cabin Fever 🇹🇹\n			\n			\n				\n				\n				\n				\n			\n				\n				\n				\n				\n				\n				\n				\n				\n				\n				\n				Sponsors
URL:https://vicaribbeanhub.com/event/ccc2025/
LOCATION:Rifflandia Showroom\, Rock Bay\, Victoria
CATEGORIES:Family-Friendly,Fete / Party,Social / Mixer
ATTACH;FMTTYPE=image/png:https://vicaribbeanhub.com/wp-content/uploads/2025/01/CCC2025-Save-the-Date-Banner.png
ORGANIZER;CN="Vancouver Island Caribbean Hub":MAILTO:info@vicaribbeanhub.com
END:VEVENT
END:VCALENDAR