BEGIN:VCALENDAR
VERSION:2.0
PRODID:-//Vancouver Island Caribbean Hub - ECPv6.15.20//NONSGML v1.0//EN
CALSCALE:GREGORIAN
METHOD:PUBLISH
X-ORIGINAL-URL:https://vicaribbeanhub.com
X-WR-CALDESC:Events for Vancouver Island Caribbean Hub
REFRESH-INTERVAL;VALUE=DURATION:PT1H
X-Robots-Tag:noindex
X-PUBLISHED-TTL:PT1H
BEGIN:VTIMEZONE
TZID:America/Vancouver
BEGIN:DAYLIGHT
TZOFFSETFROM:-0800
TZOFFSETTO:-0700
TZNAME:PDT
DTSTART:20240310T100000
END:DAYLIGHT
BEGIN:STANDARD
TZOFFSETFROM:-0700
TZOFFSETTO:-0800
TZNAME:PST
DTSTART:20241103T090000
END:STANDARD
BEGIN:DAYLIGHT
TZOFFSETFROM:-0800
TZOFFSETTO:-0700
TZNAME:PDT
DTSTART:20250309T100000
END:DAYLIGHT
BEGIN:STANDARD
TZOFFSETFROM:-0700
TZOFFSETTO:-0800
TZNAME:PST
DTSTART:20251102T090000
END:STANDARD
BEGIN:DAYLIGHT
TZOFFSETFROM:-0800
TZOFFSETTO:-0700
TZNAME:PDT
DTSTART:20260308T100000
END:DAYLIGHT
BEGIN:STANDARD
TZOFFSETFROM:-0700
TZOFFSETTO:-0800
TZNAME:PST
DTSTART:20261101T090000
END:STANDARD
END:VTIMEZONE
BEGIN:VEVENT
DTSTART;VALUE=DATE:20250829
DTEND;VALUE=DATE:20250901
DTSTAMP:20260419T080412
CREATED:20250106T215458Z
LAST-MODIFIED:20251130T024214Z
UID:26137-1756425600-1756684799@vicaribbeanhub.com
SUMMARY:i-Land Fest 2025 | Trinidad & Tobago Independence + Labour Day Long Weekend
DESCRIPTION:Highlight\n			\n				\n				\n				\n				\n				\n				\n			\n				\n				\n				\n				\n				2025 Caribbean Carnival\n			\n				\n				\n				\n				\n				🎉 i-Land Fest • Vancouver Island’s Caribbean Carnival📅 August 29-31\, 2025📍 Ship Point\, Downtown Victoria\, BC \nJoin us for a HUGE celebration of Caribbean culture\, music\, and community! Experience three days of free\, family-friendly festivities at the waterfront featuring: \n\nLive performances & DJs\nCarnival Parade w/ Costumes\nKids & Game Zone\nAuthentic Caribbean Food\nBeer/Beverage Garden (sponsored by Hoyne Brewing)\nMarket Place (30+ vendors)\nCultural Caribbean Exhibits\nAfter-parties & nonstop bacchanal\n\nFestival Highlights:✨ GLOW: The Official Kick-Off Fete (19+) – Friday\, August 29✨ Carnival Parade – Saturday\, August 30✨ The Official After Party (19+) – Saturday\, August 30 \nEveryone is welcome—come dance\, eat\, and celebrate the Caribbean spirit on the coast! \n			\n				\n				\n				\n				\n				Performance Line Up\n			\n				\n				\n				\n				\n				\n  \n  \n\n			\n				\n				\n				\n				\n				Marketplace\n			\n				\n				\n				\n				\n				\n			\n				\n				\n				\n				\n				Food Vendors\nSteelPan Food TruckTrini 2 D’BoneMJ’s CuisineSoca FoodsNubian DelicaciesLos Panos Kitchen \n  \nDessert Vendors\nFrosana TreatsÀ la Mode Ice CreamBoss Mommas Creations \n			\n				\n				\n				\n				\n				Sponsors
URL:https://vicaribbeanhub.com/event/ilandfest2025/
LOCATION:Ship Point (Inner Harbour)\, Ship's Point Park\, Victoria\, British Columbia\, V8W 1T3\, Canada
CATEGORIES:Family-Friendly,Fete / Party,Social / Mixer
ATTACH;FMTTYPE=image/png:https://vicaribbeanhub.com/wp-content/uploads/2025/01/2025-iLand-Fest-Banner.png
ORGANIZER;CN="Vancouver Island Caribbean Hub":MAILTO:info@vicaribbeanhub.com
END:VEVENT
BEGIN:VEVENT
DTSTART;TZID=America/Vancouver:20250829T190000
DTEND;TZID=America/Vancouver:20250830T020000
DTSTAMP:20260419T080412
CREATED:20250413T054411Z
LAST-MODIFIED:20250413T054517Z
UID:26688-1756494000-1756519200@vicaribbeanhub.com
SUMMARY:i-Land Fest 2025 GLOW | Kick-Off Fete
DESCRIPTION:i-Land Fest Glow Fete\n			\n				\n				\n				\n				\n				🌟 GLOW (i-Land Fest Kick-Off Fete) \n19+ | Friday\, August 29 | Doors open at 7:00 PM \nJoin us at Ambrosia (638 Fisgard St\, Victoria\, BC) for the official i-Land Fest kickoff party! GLOW is all about high-energy vibes\, glowing fits\, and Caribbean heat. Come light up the night with the best in Soca\, Dancehall\, Reggae\, Afrobeats\, and more — spun by top DJs bringing the island vibes to Victoria. \nGet your tickets now and mek we link up! D’bacchanal start! Get your tickets here!
URL:https://vicaribbeanhub.com/event/i-land-fest-2025-glow-kick-off-fete/
LOCATION:Ambrosia Banquet Hall\, 638 Fisgard St\, Victoria\, BC\, V8W1R6\, Canada
CATEGORIES:Fete / Party
ATTACH;FMTTYPE=image/jpeg:https://vicaribbeanhub.com/wp-content/uploads/2025/04/Glow-2025-Banner.jpg
ORGANIZER;CN="Vancouver Island Caribbean Hub":MAILTO:info@vicaribbeanhub.com
END:VEVENT
END:VCALENDAR